BEGIN:VCALENDAR
VERSION:2.0
PRODID:www.marburger-bund.de
BEGIN:VEVENT
UID:69e4f6e175ecd
DTSTART:20260506T150000Z
SEQUENCE:0
TRANSP:OPAQUE
DTEND:20260506T160000Z
LOCATION:am Telefon
SUMMARY:Telefonsprechstunde zur ärztlichen Weiterbildung
CLASS:PUBLIC
DESCRIPTION:Wer Informationen zur ärztlichen Weiterbildung sucht\, ist hie
 r genau richtig.
DTSTAMP:20260419T173809Z
END:VEVENT
END:VCALENDAR