BEGIN:VCALENDAR
VERSION:2.0
PRODID:www.marburger-bund.de
BEGIN:VEVENT
UID:69e6857cf1c82
DTSTART:20251028T163000Z
SEQUENCE:0
TRANSP:OPAQUE
DTEND:20251028T190000Z
LOCATION:Magdeburg
SUMMARY:EINLADUNG zur 34. Jahreshauptversammlung des Marburger Bundes Lande
 sverband Sachsen - Anhalt
CLASS:PUBLIC
DESCRIPTION:am 28. Oktober 2025 um 17:30 Uhr\nim Verwaltungszentrum der Hei
 lberufe (Doctor-Eisenbart-Ring 2)
DTSTAMP:20260420T215852Z
END:VEVENT
END:VCALENDAR