BEGIN:VCALENDAR
VERSION:2.0
PRODID:www.marburger-bund.de
BEGIN:VEVENT
UID:69e766596a9e2
DTSTART:20261117T100000Z
SEQUENCE:0
TRANSP:OPAQUE
DTEND:20261119T140000Z
LOCATION:Berlin
SUMMARY:Wirtschaftsgrundlagen für Interessenvertretungen in Kliniken
CLASS:PUBLIC
DESCRIPTION:Als Interessenvertretung im Krankenhaus kennen Sie Ihre Rechte 
 und Pflichte bei der Vertretung Ihrer Kolleginnen und Kollegen und bestimm
 en in wichtigen Fragen des Betriebes/Dienststelle mit. Um auch Einfluss au
 f unternehmerische Entscheidungen – zum Beispiel als Mitglied eines Wirt
 schaftsausschusses - nehmen zu können oder einfach zu verstehen\, wie Ihr
  Krankenhaus wirtschaftlich aufgestellt ist\, brauchen Sie praxistaugliche
 s Know-How in Fragen der Betriebswirtschaft und klinikspezifischen Grundla
 gen des Abrechnungswesens. \n
DTSTAMP:20260421T135817Z
END:VEVENT
END:VCALENDAR