BEGIN:VCALENDAR
VERSION:2.0
PRODID:www.marburger-bund.de
BEGIN:VEVENT
UID:69e9ee09a4e98
DTSTART:20261020T073000Z
SEQUENCE:0
TRANSP:OPAQUE
DTEND:20261022T140000Z
LOCATION:Berlin
SUMMARY:Rhetorik für Betriebs- und Personalräte
CLASS:PUBLIC
DESCRIPTION:Als Betriebsrat haben Sie Anspruch auf eine Schulung\, um Ihr A
 mt ordnungsgemäß ausüben zu können.
DTSTAMP:20260423T120145Z
END:VEVENT
END:VCALENDAR