BEGIN:VCALENDAR
VERSION:2.0
PRODID:www.marburger-bund.de
BEGIN:VEVENT
UID:69e764ee3d427
DTSTART:20261124T100000Z
SEQUENCE:0
TRANSP:OPAQUE
DTEND:20261125T140000Z
LOCATION:Berlin
SUMMARY:Mitbestimmungsrechte durchsetzen - Einigungsstelle und Beschlussver
 fahren für Betriebs- u. Personalräte
CLASS:PUBLIC
DESCRIPTION:Als Betriebsrat haben Sie Anspruch auf eine Schulung\, um Ihr A
 mt ordnungsgemäß ausüben zu können.
DTSTAMP:20260421T135214Z
END:VEVENT
END:VCALENDAR