BEGIN:VCALENDAR
VERSION:2.0
PRODID:www.marburger-bund.de
BEGIN:VEVENT
UID:69e637d1ed37e
DTSTART:20260416T120000Z
SEQUENCE:0
TRANSP:OPAQUE
DTEND:20260419T110000Z
LOCATION:Bernried am Starnberger See
SUMMARY:„Und wie geht‘s Dir\, Doc?“ Resilienz stärken – Freude am 
 Arztberuf erhalten
CLASS:PUBLIC
DESCRIPTION:Leben Sie noch Ihren Traumberuf als Ärztin/Arzt oder kostet Ih
 r Beruf Sie derzeit übermäßig viel Kraft mit hoher Verantwortung\, rech
 tlichem und finanziellem Druck\, ethischen Dilemmata oder Angst vor Fehler
 n und Überlastung? Was ist nach Jahren der Pandemie übriggeblieben oder 
 offen? Weil unser\nBeruf sehr vielfältige Kompetenzen erfordert\, ist ein
  besonderes Stressmanagement nötig. 
DTSTAMP:20260420T162729Z
END:VEVENT
END:VCALENDAR