BEGIN:VCALENDAR
VERSION:2.0
PRODID:www.marburger-bund.de
BEGIN:VEVENT
UID:69e4dee5c26db
DTSTART:20260707T070000Z
SEQUENCE:0
TRANSP:OPAQUE
DTEND:20260708T130000Z
LOCATION:Berlin
SUMMARY:Arbeitszeit und Mitbestimmung Seminar für Betriebsräte (offen fü
 r Personalrat und MAV)
CLASS:PUBLIC
DESCRIPTION:Als Betriebsrat haben Sie Anspruch auf eine Schulung\, um Ihr A
 mt ordnungsgemäß ausüben zu können.
DTSTAMP:20260419T155549Z
END:VEVENT
END:VCALENDAR