BEGIN:VCALENDAR
VERSION:2.0
PRODID:www.marburger-bund.de
BEGIN:VEVENT
UID:69e4ca107b0c5
DTSTART:20260915T070000Z
SEQUENCE:0
TRANSP:OPAQUE
DTEND:20260917T130000Z
LOCATION:Berlin
SUMMARY:Arbeitsrechtliche Grundlagen für Mitarbeiter in Interessenvertretu
 ngen im Gesundheitswesen
CLASS:PUBLIC
DESCRIPTION:Dieses Seminar vermittelt die arbeitsrechtlichen Grundlagen\, d
 ie für alle Beschäftigtenvertretungen im Gesundheitswesen von Bedeutung 
 sind – unabhängig davon\, ob sie nach dem Betriebsverfassungsrecht\, ei
 nem Personalvertretungsgesetz oder nach kirchlichen Regelungen tätig sind
 .\nEs geht nicht um die Darstellung der jeweiligen Beteiligungsrechte im D
 etail\, sondern um das Grundverständnis des Individualarbeitsrechts\, als
 o um die Rechte und Pflichten aus dem Arbeitsverhältnis selbst.\n
DTSTAMP:20260419T142656Z
END:VEVENT
END:VCALENDAR