BEGIN:VCALENDAR
VERSION:2.0
PRODID:www.marburger-bund.de
BEGIN:VEVENT
UID:69e4c6e41536b
DTSTART:20260609T090000Z
SEQUENCE:0
TRANSP:OPAQUE
DTEND:20260611T130000Z
LOCATION:Berlin
SUMMARY:Grundlagenschulung für Betriebsräte
CLASS:PUBLIC
DESCRIPTION:Ziel des Seminars ist die Vermittlung der rechtlichen und prakt
 ischen Grundlagen zur arbeitsfähigen\, rechtssicheren und verantwortungsb
 ewussten Betriebsratsarbeit.
DTSTAMP:20260419T141324Z
END:VEVENT
END:VCALENDAR