BEGIN:VCALENDAR
VERSION:2.0
PRODID:www.marburger-bund.de
BEGIN:VEVENT
UID:69ec111bf39f8
DTSTART:20261125T150000Z
SEQUENCE:0
TRANSP:OPAQUE
DTEND:20261125T190000Z
LOCATION:Hamburg
SUMMARY:Arbeiten in Deutschland - Informationen für einen erfolgreichen Be
 rufsstart
CLASS:PUBLIC
DESCRIPTION:Im Ausland ausgebildete Ärztinnen und Ärzte werden in Deutsch
 land gebraucht und leisten einen wertvollen Beitrag zur Gesundheitsversorg
 ung der hiesigen Bevölkerung. Um ihnen den Einstieg in die Berufstätigke
 it zu erleichtern\, führt die Marburger-Bund-Stiftung eine kostenfreie Ve
 ranstaltung durch\, bei der die Teilnehmenden verständliche und praxisnah
 e Informationen über das deutsche Gesundheitssystem erhalten\, die sowohl
  für ihre ärztliche Tätigkeit als auch ihre Karriereplanung hilfreich s
 ind. \n
DTSTAMP:20260425T025556Z
END:VEVENT
END:VCALENDAR