BEGIN:VCALENDAR
VERSION:2.0
PRODID:www.marburger-bund.de
BEGIN:VEVENT
UID:69e726aeb4658
DTSTART:20260422T150000Z
SEQUENCE:0
TRANSP:OPAQUE
DTEND:20260422T163000Z
LOCATION:Live-Online
SUMMARY:Arbeiten in Deutschland: Mein erster Arbeitsvertrag
CLASS:PUBLIC
DESCRIPTION:Im Ausland ausgebildete Ärztinnen und Ärzte werden in Deutsch
 land gebraucht und leisten einen wertvollen Beitrag zur Gesundheitsversorg
 ung der hiesigen Bevölkerung. Um ihnen den Einstieg in die Berufstätigke
 it zu erleichtern\, führt die Marburger-Bund-Stiftung verschiedene Live-O
 nline-Veranstaltungen zu verschiedene Themen durch.
DTSTAMP:20260421T092638Z
END:VEVENT
END:VCALENDAR