BEGIN:VCALENDAR
VERSION:2.0
PRODID:www.marburger-bund.de
BEGIN:VEVENT
UID:69e7d9e15aaba
DTSTART:20260922T163000Z
SEQUENCE:0
TRANSP:OPAQUE
DTEND:20260922T180000Z
LOCATION:Online
SUMMARY:Fit für den Berufsstart: Digitales Berufseinstiegsseminar für ang
 ehende Ärzt:innen 
CLASS:PUBLIC
DESCRIPTION:Der Sprung vom Studium in den Krankenhaus- oder Praxisalltag is
 t ein großer Schritt. In dem Berufseinstiegsseminar erhalten angehende Ä
 rztinnen und Ärzte kompakte und praxisnahe Informationen zu den Bereichen
  Arbeits-\, Tarif- & Berufsrecht. Darüber hinaus erhalten die Teilnehmend
 en wertvolle Bewerbungstipps und Einblicke aus dem Arbeitsalltag.
DTSTAMP:20260421T221113Z
END:VEVENT
END:VCALENDAR