BEGIN:VCALENDAR
VERSION:2.0
PRODID:www.marburger-bund.de
BEGIN:VEVENT
UID:69e4f6b65192b
DTSTART:20260512T153000Z
SEQUENCE:0
TRANSP:OPAQUE
DTEND:20260512T173000Z
LOCATION:KOMM Café Frankfurt
SUMMARY:DocSteps: Doktorarbeit - So meisterst Du Deine Promotion!
CLASS:PUBLIC
DESCRIPTION:Du stehst kurz vor Deiner Doktorarbeit oder Du bist bereits fle
 ißig am Schreiben? Dann aufgepasst!
DTSTAMP:20260419T173726Z
END:VEVENT
END:VCALENDAR