BEGIN:VCALENDAR
VERSION:2.0
PRODID:www.marburger-bund.de
BEGIN:VEVENT
UID:69eb6a22baaf3
DTSTART:20260507T160000Z
SEQUENCE:0
TRANSP:OPAQUE
DTEND:20260507T173000Z
LOCATION:Digital
SUMMARY:Berufspolitik – warum gerade junge Ärztinnen und Ärzte sich eng
 agieren sollten
CLASS:PUBLIC
DESCRIPTION:Welche Berührungspunkte hat die Kammer mit jungen Ärztinnen u
 nd Ärzten? Welche Angebote macht die Kammer für junge Medizinerinnen und
  Mediziner und was nützen diese im Berufsalltag? Mit konkreten Beispielen
  und Einblicken in die Gremienarbeit zeigen wir\, warum sich das Engagemen
 t schon vom Berufseinstieg an lohnt. Stellt Eure Fragen und diskutiert mit
  uns!\n
DTSTAMP:20260424T150330Z
END:VEVENT
END:VCALENDAR