BEGIN:VCALENDAR
VERSION:2.0
PRODID:www.marburger-bund.de
BEGIN:VEVENT
UID:69ea3c39cdb8e
DTSTART:20190821T150000Z
SEQUENCE:0
TRANSP:OPAQUE
DTEND:20190821T190000Z
LOCATION:Frankfurt
SUMMARY:Existenzgründer-Forum
CLASS:PUBLIC
DESCRIPTION:Der Workshop für Ihre eigene Arztpraxis.
DTSTAMP:20260423T173521Z
END:VEVENT
END:VCALENDAR