BEGIN:VCALENDAR
VERSION:2.0
PRODID:www.marburger-bund.de
BEGIN:VEVENT
UID:69eb5148598bd
DTSTART;VALUE=DATE:20210929
SEQUENCE:0
TRANSP:OPAQUE
DTEND;VALUE=DATE:20211001
LOCATION:Köln
SUMMARY:M3 KOMPETENT 2021 Köln
CLASS:PUBLIC
DESCRIPTION:M3 KOMPETENT bereitet Studierende der Humanmedizin gezielt auf 
 das mündliche Staatsexamen vor und ist ein Gemeinschaftsformat von AMBOSS
  und dem Marburger Bund. \n
X-MICROSOFT-CDO-ALLDAYEVENT:TRUE
DTSTAMP:20260424T131728Z
END:VEVENT
END:VCALENDAR