BEGIN:VCALENDAR
VERSION:2.0
PRODID:www.marburger-bund.de
BEGIN:VEVENT
UID:69e7a4487beb4
DTSTART:20211130T180000Z
SEQUENCE:0
TRANSP:OPAQUE
DTEND:20211130T200000Z
LOCATION:Hörsaal der Akademie für Gesundheitsberufe\, Johansenstraße 6\,
  32423 Minden
SUMMARY:Bezirksversammlung Minden
CLASS:PUBLIC
DESCRIPTION:Die letzte Präsenz-Versammlung im Bezirk Minden ist pandemiebe
 dingt eine Weile her. Jetzt wollen wir eine Veranstaltung unter 2-G-Beding
 ungen (geimpft oder innerhalb von 6 Monaten genesen) wagen. \n\nTagesordnu
 ng :\n\n1. Begrüßung und kurzer Bericht aus dem Bezirk\nDr. med. Theo Si
 evert – Vorsitzender des MB-Bezirks Minden\n\n2. Altersvorsorge für Är
 ztinnen und Ärzte: Was kann ich im Ruhestand erwarten\nund reicht das? 
 – Mit anschließender Fragerunde!\nReferent: Herr Christian Koopmann - L
 eiter Abteilung Mitglieder und Renten\, ÄVWL\nModeration: Dr. med. Patric
 ia Kalle Droste\nStv. Vorsitzende des MB-Bezirks Minden\, Stv. Vorsitzende
  Aufsichtsausschuss ÄVWL\n\n3. Kurzer Bericht aus der Tarifpolitik\nRefer
 ent: Ass. Jur. Alexander Kupfer - Gewerkschaftssekretär Marburger Bund NR
 W/RLP\, Dortmund\n\n4. Wahl: Bezirksvorstand und Delegierte für die Haupt
 versammlung des Landesverbandes\n\n5. Verschiedenes
DTSTAMP:20260421T182232Z
END:VEVENT
END:VCALENDAR