BEGIN:VCALENDAR
VERSION:2.0
PRODID:www.marburger-bund.de
BEGIN:VEVENT
UID:69e74b65ef382
DTSTART:20220329T070000Z
SEQUENCE:0
TRANSP:OPAQUE
DTEND:20220330T160000Z
LOCATION:Hannover HCC
SUMMARY:M3 KOMPETENT 2022 Hannover
CLASS:PUBLIC
DESCRIPTION:M3 KOMPETENT bereitet Studierende der Humanmedizin gezielt auf 
 das mündliche Staatsexamen vor und ist ein Gemeinschaftsformat von AMBOSS
  und dem Marburger Bund. \n
DTSTAMP:20260421T120317Z
END:VEVENT
END:VCALENDAR